Workbook

Sheet Główny
A1: Załącznik nr 1
A2: do Programu studiów na kierunku energetyka - studia pierwszego stopnia o profilu praktycznym,
A3: stanowiącego załącznik do Uchwały nr Nr 45/2026 Senatu AJP
A4: z dnia 23 czerwca 2026 r.
A5: obowiązuje I rok od r.a. 2026/2027
A6: PLAN STUDIÓW STACJONARNYCH I stopnia
A7: KIERUNEK: ENERGETYKA
A8: PROFIL: PRAKTYCZNY
A10: Lp. | B10: Nazwa przedmiotu | C10: Forma zaliczenia | D10: ROK I | N10: ROK II | X10: ROK III | AH10: ROK IV | AM10: Ogółem | AN10: w tym: | AR10: ECTS
D11: 1 sem. | H11: ECTS | I11: 2 sem. | M11: ECTS | N11: 3 sem. | R11: ECTS | S11: 4 sem. | W11: ECTS | X11: 5 sem. | AB11: ECTS | AC11: 6 sem. | AG11: ECTS | AH11: 7 sem. | AL11: ECTS
D12: w | E12: ćw | F12: lab | G12: p | I12: w | J12: ćw | K12: lab | L12: p | N12: w | O12: ćw | P12: lab | Q12: p | S12: w | T12: ćw | U12: lab | V12: p | X12: w | Y12: ćw | Z12: lab | AA12: p | AC12: w | AD12: ćw | AE12: lab | AF12: p | AH12: w | AI12: ćw | AJ12: lab | AK12: p | AN12: w. | AO12: ćw. | AP12: lab | AQ12: p
A13: A. Przedmioty podstawowe | AM13: =SUM(AM14:AM27) -> 559 | AN13: =SUM(AN14:AN27) -> 169 | AO13: =SUM(AO14:AO27) -> 345 | AP13: =SUM(AP14:AP27) -> 45 | AQ13: =SUM(AQ14:AQ27) -> 0 | AR13: =SUM(AR14:AR27) -> 33
A14: 1 | B14: Technologie informacyjne | C14: z. o. I | F14: 30 | H14: 2 | AM14: =AN14+AO14+AP14+AQ14 -> 30 | AN14: =D14+I14+N14+S14+X14+AC14+AH14 -> 0 | AO14: =E14+J14+O14+T14+Y14+AD14+AI14 -> 0 | AP14: =F14+K14+P14+U14+Z14+AE14+AJ14 -> 30 | AQ14: =G14+L14+Q14+V14+AA14+AF14+AK14 -> 0 | AR14: =H14+M14+R14+W14+AB14+AG14+AL14 -> 2
A15: 2 | B15: BHP | C15: z. I | D15: 4 | H15: 0 | AM15: =AN15+AO15+AP15+AQ15 -> 4 | AN15: =D15+I15+N15+S15+X15+AC15+AH15 -> 4 | AO15: =E15+J15+O15+T15+Y15+AD15+AI15 -> 0 | AP15: =F15+K15+P15+U15+Z15+AE15+AJ15 -> 0 | AQ15: =G15+L15+Q15+V15+AA15+AF15+AK15 -> 0 | AR15: =H15+M15+R15+W15+AB15+AG15+AL15 -> 0
A16: 3 | B16: Wprowadzenie do matematyki | C16: z. o. I | D16: 15 | E16: 15 | H16: 2 | AM16: =AN16+AO16+AP16+AQ16 -> 30 | AN16: =D16+I16+N16+S16+X16+AC16+AH16 -> 15 | AO16: =E16+J16+O16+T16+Y16+AD16+AI16 -> 15 | AP16: =F16+K16+P16+U16+Z16+AE16+AJ16 -> 0 | AQ16: =G16+L16+Q16+V16+AA16+AF16+AK16 -> 0 | AR16: =H16+M16+R16+W16+AB16+AG16+AL16 -> 2
A17: 4 | B17: Podstawy kreatywności | C17: z. o. I | D17: 15 | H17: 1 | AM17: =AN17+AO17+AP17+AQ17 -> 15 | AN17: =D17+I17+N17+S17+X17+AC17+AH17 -> 15 | AO17: =E17+J17+O17+T17+Y17+AD17+AI17 -> 0 | AP17: =F17+K17+P17+U17+Z17+AE17+AJ17 -> 0 | AQ17: =G17+L17+Q17+V17+AA17+AF17+AK17 -> 0 | AR17: =H17+M17+R17+W17+AB17+AG17+AL17 -> 1
A18: 5 | B18: Ochrona własności intelektualnych | C18: z. o. I | D18: 15 | H18: 1 | AM18: =AN18+AO18+AP18+AQ18 -> 15 | AN18: =D18+I18+N18+S18+X18+AC18+AH18 -> 15 | AO18: =E18+J18+O18+T18+Y18+AD18+AI18 -> 0 | AP18: =F18+K18+P18+U18+Z18+AE18+AJ18 -> 0 | AQ18: =G18+L18+Q18+V18+AA18+AF18+AK18 -> 0 | AR18: =H18+M18+R18+W18+AB18+AG18+AL18 -> 1
A19: 6 | B19: Fizyka | C19: E II | D19: 15 | E19: 15 | H19: 2 | I19: 15 | J19: 15 | K19: 15 | M19: 3 | AM19: =AN19+AO19+AP19+AQ19 -> 75 | AN19: =D19+I19+N19+S19+X19+AC19+AH19 -> 30 | AO19: =E19+J19+O19+T19+Y19+AD19+AI19 -> 30 | AP19: =F19+K19+P19+U19+Z19+AE19+AJ19 -> 15 | AQ19: =G19+L19+Q19+V19+AA19+AF19+AK19 -> 0 | AR19: =H19+M19+R19+W19+AB19+AG19+AL19 -> 5
A20: 7 | B20: Metodyka obliczeń inżynierskich | C20: z. o. II | I20: 30 | J20: 30 | M20: 4 | AM20: =AN20+AO20+AP20+AQ20 -> 60 | AN20: =D20+I20+N20+S20+X20+AC20+AH20 -> 30 | AO20: =E20+J20+O20+T20+Y20+AD20+AI20 -> 30 | AP20: =F20+K20+P20+U20+Z20+AE20+AJ20 -> 0 | AQ20: =G20+L20+Q20+V20+AA20+AF20+AK20 -> 0 | AR20: =H20+M20+R20+W20+AB20+AG20+AL20 -> 4
A21: 8 | B21: Język obcy | C21: E IV | J21: 30 | M21: 2 | O21: 30 | R21: 2 | T21: 30 | W21: 2 | AM21: =AN21+AO21+AP21+AQ21 -> 90 | AN21: =D21+I21+N21+S21+X21+AC21+AH21 -> 0 | AO21: =E21+J21+O21+T21+Y21+AD21+AI21 -> 90 | AP21: =F21+K21+P21+U21+Z21+AE21+AJ21 -> 0 | AQ21: =G21+L21+Q21+V21+AA21+AF21+AK21 -> 0 | AR21: =H21+M21+R21+W21+AB21+AG21+AL21 -> 6
A22: 9 | B22: Narzędzia analizy matematycznej | C22: E III | N22: 30 | O22: 30 | R22: 4 | AM22: =AN22+AO22+AP22+AQ22 -> 60 | AN22: =D22+I22+N22+S22+X22+AC22+AH22 -> 30 | AO22: =E22+J22+O22+T22+Y22+AD22+AI22 -> 30 | AP22: =F22+K22+P22+U22+Z22+AE22+AJ22 -> 0 | AQ22: =G22+L22+Q22+V22+AA22+AF22+AK22 -> 0 | AR22: =H22+M22+R22+W22+AB22+AG22+AL22 -> 4
A23: 10 | B23: Matematyka stosowana | C23: z. o. IV | S23: 15 | T23: 30 | W23: 3 | AM23: =AN23+AO23+AP23+AQ23 -> 45 | AN23: =D23+I23+N23+S23+X23+AC23+AH23 -> 15 | AO23: =E23+J23+O23+T23+Y23+AD23+AI23 -> 30 | AP23: =F23+K23+P23+U23+Z23+AE23+AJ23 -> 0 | AQ23: =G23+L23+Q23+V23+AA23+AF23+AK23 -> 0 | AR23: =H23+M23+R23+W23+AB23+AG23+AL23 -> 3
A24: 11 | B24: Komunikacja interpersonalna | C24: z.o. IV | T24: 15 | W24: 1 | AM24: =AN24+AO24+AP24+AQ24 -> 15 | AN24: =D24+I24+N24+S24+X24+AC24+AH24 -> 0 | AO24: =E24+J24+O24+T24+Y24+AD24+AI24 -> 15 | AP24: =F24+K24+P24+U24+Z24+AE24+AJ24 -> 0 | AQ24: =G24+L24+Q24+V24+AA24+AF24+AK24 -> 0 | AR24: =H24+M24+R24+W24+AB24+AG24+AL24 -> 1
A25: 12 | B25: Język obcy dla inżynierów | C25: z. o. V | Y25: 30 | AB25: 2 | AM25: =AN25+AO25+AP25+AQ25 -> 30 | AN25: =D25+I25+N25+S25+X25+AC25+AH25 -> 0 | AO25: =E25+J25+O25+T25+Y25+AD25+AI25 -> 30 | AP25: =F25+K25+P25+U25+Z25+AE25+AJ25 -> 0 | AQ25: =G25+L25+Q25+V25+AA25+AF25+AK25 -> 0 | AR25: =H25+M25+R25+W25+AB25+AG25+AL25 -> 2
A26: 13 | B26: Podstawy ekonomii dla inżynierów | C26: z. o. V | X26: 15 | Y26: 15 | AB26: 2 | AM26: =AN26+AO26+AP26+AQ26 -> 30 | AN26: =D26+I26+N26+S26+X26+AC26+AH26 -> 15 | AO26: =E26+J26+O26+T26+Y26+AD26+AI26 -> 15 | AP26: =F26+K26+P26+U26+Z26+AE26+AJ26 -> 0 | AQ26: =G26+L26+Q26+V26+AA26+AF26+AK26 -> 0 | AR26: =H26+M26+R26+W26+AB26+AG26+AL26 -> 2
A27: 14 | B27: Wychowanie fizyczne | C27: z. I, II | J27: 30 | M27: 0 | O27: 30 | R27: 0 | AM27: =AN27+AO27+AP27+AQ27 -> 60 | AN27: =D27+I27+N27+S27+X27+AC27+AH27 -> 0 | AO27: =E27+J27+O27+T27+Y27+AD27+AI27 -> 60 | AP27: =F27+K27+P27+U27+Z27+AE27+AJ27 -> 0 | AQ27: =G27+L27+Q27+V27+AA27+AF27+AK27 -> 0 | AR27: =H27+M27+R27+W27+AB27+AG27+AL27 -> 0
A28: B. Przedmioty kierunkowe | AM28: =SUM(AM29:AM43) -> 1005 | AN28: =SUM(AN29:AN43) -> 405 | AO28: =SUM(AO29:AO43) -> 165 | AP28: =SUM(AP29:AP43) -> 360 | AQ28: =SUM(AQ29:AQ43) -> 75 | AR28: =SUM(AR29:AR43) -> 64
A29: 1 | B29: Materiałoznawstwo | C29: z. o. I | D29: 15 | F29: 30 | H29: 4 | AM29: =AN29+AO29+AP29+AQ29 -> 45 | AN29: =D29+I29+N29+S29+X29+AC29+AH29 -> 15 | AO29: =E29+J29+O29+T29+Y29+AD29+AI29 -> 0 | AP29: =F29+K29+P29+U29+Z29+AE29+AJ29 -> 30 | AQ29: =G29+L29+Q29+V29+AA29+AF29+AK29 -> 0 | AR29: =H29+M29+R29+W29+AB29+AG29+AL29 -> 4
A30: 2 | B30: Podstawy technologii energetycznych | C30: E I | D30: 30 | F30: 30 | H30: 4 | AM30: =AN30+AO30+AP30+AQ30 -> 60 | AN30: =D30+I30+N30+S30+X30+AC30+AH30 -> 30 | AO30: =E30+J30+O30+T30+Y30+AD30+AI30 -> 0 | AP30: =F30+K30+P30+U30+Z30+AE30+AJ30 -> 30 | AQ30: =G30+L30+Q30+V30+AA30+AF30+AK30 -> 0 | AR30: =H30+M30+R30+W30+AB30+AG30+AL30 -> 4
A31: 3 | B31: Chemia | C31: z. o. I | D31: 15 | E31: 15 | F31: 15 | H31: 3 | AM31: =AN31+AO31+AP31+AQ31 -> 45 | AN31: =D31+I31+N31+S31+X31+AC31+AH31 -> 15 | AO31: =E31+J31+O31+T31+Y31+AD31+AI31 -> 15 | AP31: =F31+K31+P31+U31+Z31+AE31+AJ31 -> 15 | AQ31: =G31+L31+Q31+V31+AA31+AF31+AK31 -> 0 | AR31: =H31+M31+R31+W31+AB31+AG31+AL31 -> 3
A32: 4 | B32: Podstawy elektrotechniki i elektroniki | C32: E II | D32: 15 | E32: 15 | F32: 30 | H32: 4 | I32: 15 | J32: 15 | K32: 30 | M32: 4 | AM32: =AN32+AO32+AP32+AQ32 -> 120 | AN32: =D32+I32+N32+S32+X32+AC32+AH32 -> 30 | AO32: =E32+J32+O32+T32+Y32+AD32+AI32 -> 30 | AP32: =F32+K32+P32+U32+Z32+AE32+AJ32 -> 60 | AQ32: =G32+L32+Q32+V32+AA32+AF32+AK32 -> 0 | AR32: =H32+M32+R32+W32+AB32+AG32+AL32 -> 8
A33: 5 | B33: Rysunek techniczny i CAD | C33: z. o. II | I33: 15 | J33: 30 | K33: 30 | M33: 4 | AM33: =AN33+AO33+AP33+AQ33 -> 75 | AN33: =D33+I33+N33+S33+X33+AC33+AH33 -> 15 | AO33: =E33+J33+O33+T33+Y33+AD33+AI33 -> 30 | AP33: =F33+K33+P33+U33+Z33+AE33+AJ33 -> 30 | AQ33: =G33+L33+Q33+V33+AA33+AF33+AK33 -> 0 | AR33: =H33+M33+R33+W33+AB33+AG33+AL33 -> 4
A34: 6 | B34: Odnawialne źródła energii | C34: z. o. II | I34: 30 | K34: 30 | L34: 15 | M34: 4 | AM34: =AN34+AO34+AP34+AQ34 -> 75 | AN34: =D34+I34+N34+S34+X34+AC34+AH34 -> 30 | AO34: =E34+J34+O34+T34+Y34+AD34+AI34 -> 0 | AP34: =F34+K34+P34+U34+Z34+AE34+AJ34 -> 30 | AQ34: =G34+L34+Q34+V34+AA34+AF34+AK34 -> 15 | AR34: =H34+M34+R34+W34+AB34+AG34+AL34 -> 4
A35: 7 | B35: Podstawy energoelektroniki | C35: E II | I35: 30 | J35: 15 | K35: 30 | M35: 4 | AM35: =AN35+AO35+AP35+AQ35 -> 75 | AN35: =D35+I35+N35+S35+X35+AC35+AH35 -> 30 | AO35: =E35+J35+O35+T35+Y35+AD35+AI35 -> 15 | AP35: =F35+K35+P35+U35+Z35+AE35+AJ35 -> 30 | AQ35: =G35+L35+Q35+V35+AA35+AF35+AK35 -> 0 | AR35: =H35+M35+R35+W35+AB35+AG35+AL35 -> 4
A36: 8 | B36: Mechanika płynów | C36: z. o. III | N36: 30 | O36: 15 | P36: 15 | R36: 4 | AM36: =AN36+AO36+AP36+AQ36 -> 60 | AN36: =D36+I36+N36+S36+X36+AC36+AH36 -> 30 | AO36: =E36+J36+O36+T36+Y36+AD36+AI36 -> 15 | AP36: =F36+K36+P36+U36+Z36+AE36+AJ36 -> 15 | AQ36: =G36+L36+Q36+V36+AA36+AF36+AK36 -> 0 | AR36: =H36+M36+R36+W36+AB36+AG36+AL36 -> 4
A37: 9 | B37: Maszyny i napędy elektryczne | C37: E III | N37: 30 | O37: 15 | P37: 15 | R37: 4 | AM37: =AN37+AO37+AP37+AQ37 -> 60 | AN37: =D37+I37+N37+S37+X37+AC37+AH37 -> 30 | AO37: =E37+J37+O37+T37+Y37+AD37+AI37 -> 15 | AP37: =F37+K37+P37+U37+Z37+AE37+AJ37 -> 15 | AQ37: =G37+L37+Q37+V37+AA37+AF37+AK37 -> 0 | AR37: =H37+M37+R37+W37+AB37+AG37+AL37 -> 4
A38: 10 | B38: Podstawy konstrukcji i eksploatacji maszyn | C38: z. o. IV | S38: 30 | U38: 15 | V38: 30 | W38: 4 | AM38: =AN38+AO38+AP38+AQ38 -> 75 | AN38: =D38+I38+N38+S38+X38+AC38+AH38 -> 30 | AO38: =E38+J38+O38+T38+Y38+AD38+AI38 -> 0 | AP38: =F38+K38+P38+U38+Z38+AE38+AJ38 -> 15 | AQ38: =G38+L38+Q38+V38+AA38+AF38+AK38 -> 30 | AR38: =H38+M38+R38+W38+AB38+AG38+AL38 -> 4
A39: 11 | B39: Termodynamika techniczna | C39: E IV | S39: 30 | T39: 15 | U39: 15 | W39: 4 | AM39: =AN39+AO39+AP39+AQ39 -> 60 | AN39: =D39+I39+N39+S39+X39+AC39+AH39 -> 30 | AO39: =E39+J39+O39+T39+Y39+AD39+AI39 -> 15 | AP39: =F39+K39+P39+U39+Z39+AE39+AJ39 -> 15 | AQ39: =G39+L39+Q39+V39+AA39+AF39+AK39 -> 0 | AR39: =H39+M39+R39+W39+AB39+AG39+AL39 -> 4
A40: 12 | B40: Kotły parowe | C40: z. o. V | X40: 30 | Y40: 15 | Z40: 15 | AB40: 4 | AM40: =AN40+AO40+AP40+AQ40 -> 60 | AN40: =D40+I40+N40+S40+X40+AC40+AH40 -> 30 | AO40: =E40+J40+O40+T40+Y40+AD40+AI40 -> 15 | AP40: =F40+K40+P40+U40+Z40+AE40+AJ40 -> 15 | AQ40: =G40+L40+Q40+V40+AA40+AF40+AK40 -> 0 | AR40: =H40+M40+R40+W40+AB40+AG40+AL40 -> 4
A41: 13 | B41: Turbiny parowe i gazowe | C41: z. o. VI | AC41: 30 | AE41: 15 | AF41: 30 | AG41: 5 | AM41: =AN41+AO41+AP41+AQ41 -> 75 | AN41: =D41+I41+N41+S41+X41+AC41+AH41 -> 30 | AO41: =E41+J41+O41+T41+Y41+AD41+AI41 -> 0 | AP41: =F41+K41+P41+U41+Z41+AE41+AJ41 -> 15 | AQ41: =G41+L41+Q41+V41+AA41+AF41+AK41 -> 30 | AR41: =H41+M41+R41+W41+AB41+AG41+AL41 -> 5
A42: 14 | B42: Gospodarka i systemy energetyczne | C42: z. o. VII | AH42: 30 | AJ42: 30 | AL42: 4 | AM42: =AN42+AO42+AP42+AQ42 -> 60 | AN42: =D42+I42+N42+S42+X42+AC42+AH42 -> 30 | AO42: =E42+J42+O42+T42+Y42+AD42+AI42 -> 0 | AP42: =F42+K42+P42+U42+Z42+AE42+AJ42 -> 30 | AQ42: =G42+L42+Q42+V42+AA42+AF42+AK42 -> 0 | AR42: =H42+M42+R42+W42+AB42+AG42+AL42 -> 4
A43: 15 | B43: Audyt energetyczny | C43: z. o. VII | AH43: 30 | AI43: 15 | AJ43: 15 | AL43: 4 | AM43: =AN43+AO43+AP43+AQ43 -> 60 | AN43: =D43+I43+N43+S43+X43+AC43+AH43 -> 30 | AO43: =E43+J43+O43+T43+Y43+AD43+AI43 -> 15 | AP43: =F43+K43+P43+U43+Z43+AE43+AJ43 -> 15 | AQ43: =G43+L43+Q43+V43+AA43+AF43+AK43 -> 0 | AR43: =H43+M43+R43+W43+AB43+AG43+AL43 -> 4
A44: C. Moduł obieralny | AM44: =AM45 -> 960 | AN44: =AN45 -> 375 | AO44: =AO45 -> 45 | AP44: =AP45 -> 315 | AQ44: =AQ45 -> 225 | AR44: =AR45 -> 64
A45: 1 | B45: Moduł obieralny | N45: =Elektroenergetyka!N30 -> 60 | O45: =Elektroenergetyka!O30 -> 15 | P45: =Elektroenergetyka!P30 -> 45 | Q45: =Elektroenergetyka!Q30 -> 30 | R45: =Elektroenergetyka!R30 -> 10 | S45: =Elektroenergetyka!S30 -> 60 | T45: =Elektroenergetyka!T30 -> 0 | U45: =Elektroenergetyka!U30 -> 60 | ... AL45: =Elektroenergetyka!AL30 -> 13 | AM45: =SUM(AN45:AQ45) -> 960 | AN45: =N45+S45+X45+AC45+AH45 -> 375 | AO45: =O45+T45+Y45+AD45+AI45 -> 45 | AP45: =P45+U45+Z45+AE45+AJ45 -> 315 | AQ45: =Q45+V45+AA45+AF45+AK45 -> 225 | AR45: =R45+W45+AB45+AG45+AL45 -> 64
A46: D. Dyplomowanie i praktyka | AM46: =SUM(AM47:AM50) -> 1050 | AN46: =SUM(AN47:AN50) -> 0 | AO46: =SUM(AO47:AO50) -> 0 | AP46: =SUM(AP47:AP50) -> 0 | AQ46: =SUM(AQ47:AQ50) -> 90 | AR46: =SUM(AR47:AR50) -> 49
A47: 1 | B47: Seminarium dyplomowe | C47: z.o. V, VI, VII | AA47: 30 | AB47: 2 | AF47: 30 | AG47: 2 | AK47: 30 | AL47: 9 | AM47: =AN47+AO47+AP47+AQ47 -> 90 | AN47: =D47+I47+N47+S47+X47+AC47+AH47 -> 0 | AO47: =E47+J47+O47+T47+Y47+AD47+AI47 -> 0 | AP47: =F47+K47+P47+U47+Z47+AE47+AJ47 -> 0 | AQ47: =G47+L47+Q47+V47+AA47+AF47+AK47 -> 90 | AR47: =H47+M47+R47+W47+AB47+AG47+AL47 -> 13
A48: 2 | B48: Praktyka zawodowa I | C48: z II | D48: 320 | M48: 12 | AM48: =D48+N48+X48+AH48 -> 320 | AN48: 0 | AO48: =E48+J48+O48+T48+Y48+AD48+AI48 -> 0 | AP48: =F48+K48+P48+U48+Z48+AE48+AJ48 -> 0 | AQ48: =G48+L48+Q48+V48+AA48+AF48+AK48 -> 0 | AR48: =M48+W48+AG48+AL48 -> 12
A49: 3 | B49: Praktyka zawodowa II | C49: z IV | N49: 320 | W49: 12 | AM49: =D49+N49+X49+AH49 -> 320 | AN49: 0 | AO49: =E49+J49+O49+T49+Y49+AD49+AI49 -> 0 | AP49: =F49+K49+P49+U49+Z49+AE49+AJ49 -> 0 | AQ49: =G49+L49+Q49+V49+AA49+AF49+AK49 -> 0 | AR49: =M49+W49+AG49+AL49 -> 12
A50: 4 | B50: Praktyka zawodowa III | C50: z VI | X50: 320 | AG50: 12 | AM50: =D50+N50+X50+AH50 -> 320 | AN50: 0 | AO50: =E50+J50+O50+T50+Y50+AD50+AI50 -> 0 | AP50: =F50+K50+P50+U50+Z50+AE50+AJ50 -> 0 | AQ50: =G50+L50+Q50+V50+AA50+AF50+AK50 -> 0 | AR50: =M50+W50+AG50+AL50 -> 12
A51: RAZEM | D51: =SUM(D14:D47) -> 139 | E51: =SUM(E14:E47) -> 60 | F51: =SUM(F14:F47) -> 135 | G51: =SUM(G14:G47) -> 0 | H51: =SUM(H14:H50) -> 23 | I51: =SUM(I14:I47) -> 135 | J51: =SUM(J14:J47) -> 165 | K51: =SUM(K14:K47) -> 135 | L51: =SUM(L14:L47) -> 15 | M51: =SUM(M14:M47) -> 25 | N51: =SUM(N14:N47) -> 150 | O51: =SUM(O14:O47) -> 135 | P51: =SUM(P14:P47) -> 75 | Q51: =SUM(Q14:Q47) -> 30 | R51: =SUM(R14:R50) -> 24 | S51: =SUM(S14:S47) -> 135 | T51: =SUM(T14:T47) -> 90 | U51: =SUM(U14:U47) -> 90 | V51: =SUM(V14:V47) -> 60 | W51: =SUM(W14:W47) -> 24 | X51: =SUM(X14:X47) -> 135 | Y51: =SUM(Y14:Y47) -> 75 | Z51: =SUM(Z14:Z47) -> 75 | AA51: =SUM(AA14:AA47) -> 60 | AB51: =SUM(AB14:AB50) -> 23 | AC51: =SUM(AC14:AC47) -> 120 | AD51: =SUM(AD14:AD47) -> 0 | AE51: =SUM(AE14:AE47) -> 105 | AF51: =SUM(AF14:AF47) -> 150 | AG51: =SUM(AG14:AG47) -> 25 | AH51: =SUM(AH14:AH47) -> 135 | AI51: =SUM(AI14:AI47) -> 30 | AJ51: =SUM(AJ14:AJ47) -> 105 | AK51: =SUM(AK14:AK47) -> 75 | AL51: =SUM(AL14:AL50) -> 30 | AM51: =AM46+AM44+AM28+AM13 -> 3574 | AN51: =AN46+AN44+AN28+AN13 -> 949 | AO51: =AO46+AO44+AO28+AO13 -> 555 | AP51: =AP46+AP44+AP28+AP13 -> 720 | AQ51: =AQ46+AQ44+AQ28+AQ13 -> 390 | AR51: =AR46+AR44+AR28+AR13 -> 210
D52: =SUM(D51:G51) -> 334 | I52: =SUM(I51:L51) -> 450 | N52: =SUM(N51:Q51) -> 390 | S52: =SUM(S51:V51) -> 375 | X52: =SUM(X51:AA51) -> 345 | AC52: =SUM(AC51:AF51) -> 375 | AH52: =SUM(AH51:AK51) -> 345 | AM52: =D53+N53+X53+AH53 -> 3574 | AR52: =M53+W53+AG53+AL53 -> 210
D53: =I52+D52+D48 -> 1104 | M53: =H51+M51+M48 -> 60 | N53: =N52+S52+AM49 -> 1085 | W53: =W49+R51+W51 -> 60 | X53: =X52+AC52+AM50 -> 1040 | AG53: =AG50+AB51+AG51 -> 60 | AH53: =AH52 -> 345 | AL53: =AH50+AL51 -> 30

Sheet Elektroenergetyka
A1: Załącznik nr 1
A2: do Programu studiów na kierunku energetyka - studia pierwszego stopnia o profilu praktycznym,
A3: stanowiącego załącznik do Uchwały nr Nr 45/2026 Senatu AJP
A4: z dnia 23 czerwca 2026 r.
A5: obowiązuje I rok od r.a. 2026/2027
A6: PLAN STUDIÓW STACJONARNYCH I stopnia
A7: KIERUNEK: ENERGETYKA
A8: PROFIL: PRAKTYCZNY
A9: Moduł obieralny: ELEKTROENERGETYKA
A11: Lp. | B11: Nazwa przedmiotu | C11: Forma zalicz. | D11: ROK I | N11: ROK II | X11: ROK III | AH11: ROK IV | AM11: Ogółem | AN11: w tym: | AR11: ECTS
D12: 1 sem. | H12: ECTS | I12: 2 sem. | M12: ECTS | N12: 3 sem. | R12: ECTS | S12: 4 sem. | W12: ECTS | X12: 5 sem. | AB12: ECTS | AC12: 6 sem. | AG12: ECTS | AH12: 7 sem. | AL12: ECTS
D13: w. | E13: ćw | F13: lab | G13: p | I13: w. | J13: ćw | K13: lab | L13: p | N13: w. | O13: ćw | P13: lab | Q13: p | S13: w. | T13: ćw | U13: lab | V13: p | X13: w. | Y13: ćw | Z13: lab | AA13: p | AC13: w. | AD13: ćw | AE13: lab | AF13: p | AH13: w. | AI13: ćw | AJ13: lab | AK13: p | AN13: w. | AO13: ćw | AP13: lab | AQ13: p
A14: C. Moduł obieralny: ELEKTROENERGETYKA
A15: 1 | B15: Podstawy elektroenergetyki | C15: E III | N15: 30 | O15: 15 | P15: 15 | R15: 4 | AM15: =AN15+AO15+AP15+AQ15 -> 60 | AN15: =D15+I15+N15+S15+X15+AC15+AH15 -> 30 | AO15: =E15+J15+O15+T15+Y15+AD15+AI15 -> 15 | AP15: =F15+K15+P15+U15+Z15+AE15+AJ15 -> 15 | AQ15: =G15+L15+Q15+V15+AA15+AF15+AK15 -> 0 | AR15: =H15+M15+R15+W15+AB15+AG15+AL15 -> 4
A16: 2 | B16: Podstawy automatyki | C16: z. o. III | N16: 15 | P16: 30 | R16: 3 | AM16: =AN16+AO16+AP16+AQ16 -> 45 | AN16: =D16+I16+N16+S16+X16+AC16+AH16 -> 15 | AO16: =E16+J16+O16+T16+Y16+AD16+AI16 -> 0 | AP16: =F16+K16+P16+U16+Z16+AE16+AJ16 -> 30 | AQ16: =G16+L16+Q16+V16+AA16+AF16+AK16 -> 0 | AR16: =H16+M16+R16+W16+AB16+AG16+AL16 -> 3
A17: 3 | B17: Energetyka cieplna | C17: z. o. III | N17: 15 | Q17: 30 | R17: 3 | AM17: =AN17+AO17+AP17+AQ17 -> 45 | AN17: =D17+I17+N17+S17+X17+AC17+AH17 -> 15 | AO17: =E17+J17+O17+T17+Y17+AD17+AI17 -> 0 | AP17: =F17+K17+P17+U17+Z17+AE17+AJ17 -> 0 | AQ17: =G17+L17+Q17+V17+AA17+AF17+AK17 -> 30 | AR17: =H17+M17+R17+W17+AB17+AG17+AL17 -> 3
A18: 4 | B18: Technologie maszyn energetycznych | C18: E IV | S18: 30 | U18: 15 | V18: 15 | W18: 4 | AM18: =AN18+AO18+AP18+AQ18 -> 60 | AN18: =D18+I18+N18+S18+X18+AC18+AH18 -> 30 | AO18: =E18+J18+O18+T18+Y18+AD18+AI18 -> 0 | AP18: =F18+K18+P18+U18+Z18+AE18+AJ18 -> 15 | AQ18: =G18+L18+Q18+V18+AA18+AF18+AK18 -> 15 | AR18: =H18+M18+R18+W18+AB18+AG18+AL18 -> 4
A19: 5 | B19: Instalacje odnawialnych żródeł energii | C19: z. o. IV | S19: 15 | U19: 30 | W19: 3 | AM19: =AN19+AO19+AP19+AQ19 -> 45 | AN19: =D19+I19+N19+S19+X19+AC19+AH19 -> 15 | AO19: =E19+J19+O19+T19+Y19+AD19+AI19 -> 0 | AP19: =F19+K19+P19+U19+Z19+AE19+AJ19 -> 30 | AQ19: =G19+L19+Q19+V19+AA19+AF19+AK19 -> 0 | AR19: =H19+M19+R19+W19+AB19+AG19+AL19 -> 3
A20: 6 | B20: Sieci elektroenergetyczne | C20: z. o. IV | S20: 15 | U20: 15 | V20: 15 | W20: 3 | AM20: =AN20+AO20+AP20+AQ20 -> 45 | AN20: =D20+I20+N20+S20+X20+AC20+AH20 -> 15 | AO20: =E20+J20+O20+T20+Y20+AD20+AI20 -> 0 | AP20: =F20+K20+P20+U20+Z20+AE20+AJ20 -> 15 | AQ20: =G20+L20+Q20+V20+AA20+AF20+AK20 -> 15 | AR20: =H20+M20+R20+W20+AB20+AG20+AL20 -> 3
A21: 7 | B21: Miernictwo przemysłowe | C21: E V | X21: 30 | Z21: 15 | AA21: 30 | AB21: 5 | AM21: =AN21+AO21+AP21+AQ21 -> 75 | AN21: =D21+I21+N21+S21+X21+AC21+AH21 -> 30 | AO21: =E21+J21+O21+T21+Y21+AD21+AI21 -> 0 | AP21: =F21+K21+P21+U21+Z21+AE21+AJ21 -> 15 | AQ21: =G21+L21+Q21+V21+AA21+AF21+AK21 -> 30 | AR21: =H21+M21+R21+W21+AB21+AG21+AL21 -> 5
A22: 8 | B22: Stacje rozdzielcze i aparaty elektryczne | C22: E V | X22: 30 | Y22: 15 | Z22: 15 | AB22: 4 | AM22: =AN22+AO22+AP22+AQ22 -> 60 | AN22: =D22+I22+N22+S22+X22+AC22+AH22 -> 30 | AO22: =E22+J22+O22+T22+Y22+AD22+AI22 -> 15 | AP22: =F22+K22+P22+U22+Z22+AE22+AJ22 -> 15 | AQ22: =G22+L22+Q22+V22+AA22+AF22+AK22 -> 0 | AR22: =H22+M22+R22+W22+AB22+AG22+AL22 -> 4
A23: 9 | B23: Eksploatacia i nadzór nad instalacjami i urządzeniami energetycznymi | C23: E VI | X23: 30 | Z23: 30 | AB23: 4 | AC23: 15 | AE23: 30 | AF23: 15 | AG23: 4 | AM23: =AN23+AO23+AP23+AQ23 -> 120 | AN23: =D23+I23+N23+S23+X23+AC23+AH23 -> 45 | AO23: =E23+J23+O23+T23+Y23+AD23+AI23 -> 0 | AP23: =F23+K23+P23+U23+Z23+AE23+AJ23 -> 60 | AQ23: =G23+L23+Q23+V23+AA23+AF23+AK23 -> 15 | AR23: =H23+M23+R23+W23+AB23+AG23+AL23 -> 8
A24: 10 | B24: Pomiary w procesach energetycznych | C24: z. o. VI | AC24: 30 | AE24: 30 | AF24: 15 | AG24: 5 | AM24: =AN24+AO24+AP24+AQ24 -> 75 | AN24: =D24+I24+N24+S24+X24+AC24+AH24 -> 30 | AO24: =E24+J24+O24+T24+Y24+AD24+AI24 -> 0 | AP24: =F24+K24+P24+U24+Z24+AE24+AJ24 -> 30 | AQ24: =G24+L24+Q24+V24+AA24+AF24+AK24 -> 15 | AR24: =H24+M24+R24+W24+AB24+AG24+AL24 -> 5
A25: 11 | B25: Projektowanie sieci i instalacji elektroenergetycznych | C25: z. o. VI | AC25: 30 | AE25: 15 | AF25: 30 | AG25: 5 | AM25: =AN25+AO25+AP25+AQ25 -> 75 | AN25: =D25+I25+N25+S25+X25+AC25+AH25 -> 30 | AO25: =E25+J25+O25+T25+Y25+AD25+AI25 -> 0 | AP25: =F25+K25+P25+U25+Z25+AE25+AJ25 -> 15 | AQ25: =G25+L25+Q25+V25+AA25+AF25+AK25 -> 30 | AR25: =H25+M25+R25+W25+AB25+AG25+AL25 -> 5
A26: 12 | B26: Projektowanie maszyn energetycznych | C26: E VI | AC26: 15 | AE26: 15 | AF26: 30 | AG26: 4 | AM26: =AN26+AO26+AP26+AQ26 -> 60 | AN26: =D26+I26+N26+S26+X26+AC26+AH26 -> 15 | AO26: =E26+J26+O26+T26+Y26+AD26+AI26 -> 0 | AP26: =F26+K26+P26+U26+Z26+AE26+AJ26 -> 15 | AQ26: =G26+L26+Q26+V26+AA26+AF26+AK26 -> 30 | AR26: =H26+M26+R26+W26+AB26+AG26+AL26 -> 4
A27: 13 | B27: Modernizacja maszyn energetycznych | C27: E VII | AH27: 30 | AJ27: 30 | AK27: 15 | AL27: 5 | AM27: =AN27+AO27+AP27+AQ27 -> 75 | AN27: =D27+I27+N27+S27+X27+AC27+AH27 -> 30 | AO27: =E27+J27+O27+T27+Y27+AD27+AI27 -> 0 | AP27: =F27+K27+P27+U27+Z27+AE27+AJ27 -> 30 | AQ27: =G27+L27+Q27+V27+AA27+AF27+AK27 -> 15 | AR27: =H27+M27+R27+W27+AB27+AG27+AL27 -> 5
A28: 14 | B28: Modelowanie procesów energetycznych | C28: z. o. VII | AH28: 15 | AI28: 15 | AJ28: 30 | AL28: 4 | AM28: =AN28+AO28+AP28+AQ28 -> 60 | AN28: =D28+I28+N28+S28+X28+AC28+AH28 -> 15 | AO28: =E28+J28+O28+T28+Y28+AD28+AI28 -> 15 | AP28: =F28+K28+P28+U28+Z28+AE28+AJ28 -> 30 | AQ28: =G28+L28+Q28+V28+AA28+AF28+AK28 -> 0 | AR28: =H28+M28+R28+W28+AB28+AG28+AL28 -> 4
A29: 15 | B29: Projekt inżynierski | C29: z. o. VII | AH29: 30 | AK29: 30 | AL29: 4 | AM29: =AN29+AO29+AP29+AQ29 -> 60 | AN29: =D29+I29+N29+S29+X29+AC29+AH29 -> 30 | AO29: =E29+J29+O29+T29+Y29+AD29+AI29 -> 0 | AP29: =F29+K29+P29+U29+Z29+AE29+AJ29 -> 0 | AQ29: =G29+L29+Q29+V29+AA29+AF29+AK29 -> 30 | AR29: =H29+M29+R29+W29+AB29+AG29+AL29 -> 4
A30: Razem liczba godzin | D30: =SUM(D15:D22) -> 0 | E30: =SUM(E15:E22) -> 0 | F30: =SUM(F15:F22) -> 0 | G30: =SUM(G15:G22) -> 0 | H30: =SUM(H15:H22) -> 0 | I30: =SUM(I15:I22) -> 0 | J30: =SUM(J15:J22) -> 0 | K30: =SUM(K15:K22) -> 0 | ... M30: =SUM(M15:M22) -> 0 | N30: =SUM(N15:N29) -> 60 | O30: =SUM(O15:O29) -> 15 | P30: =SUM(P15:P29) -> 45 | Q30: =SUM(Q15:Q29) -> 30 | R30: =SUM(R15:R22) -> 10 | S30: =SUM(S15:S29) -> 60 | T30: =SUM(T15:T29) -> 0 | U30: =SUM(U15:U29) -> 60 | V30: =SUM(V15:V29) -> 30 | W30: =SUM(W15:W22) -> 10 | X30: =SUM(X15:X29) -> 90 | Y30: =SUM(Y15:Y29) -> 15 | Z30: =SUM(Z15:Z29) -> 60 | AA30: =SUM(AA15:AA29) -> 30 | AB30: =SUM(AB15:AB29) -> 13 | AC30: =SUM(AC15:AC29) -> 90 | AD30: =SUM(AD15:AD29) -> 0 | AE30: =SUM(AE15:AE29) -> 90 | ... AR30: =SUM(AR15:AR29) -> 64

Sheet IŚ
A1: Załącznik nr 1
A2: do Programu studiów na kierunku energetyka - studia pierwszego stopnia o profilu praktycznym,
A3: stanowiącego załącznik do Uchwały nr Nr 45/2026 Senatu AJP
A4: z dnia 23 czerwca 2026 r.
A5: obowiązuje I rok od r.a. 2026/2027
A6: PLAN STUDIÓW STACJONARNYCH I stopnia
A7: KIERUNEK: ENERGETYKA
A8: PROFIL: PRAKTYCZNY
A9: Moduł obieralny: INŻYNIERIA ŚRODOWISKA
A11: Lp. | B11: Nazwa przedmiotu | C11: Forma zalicz. | D11: ROK I | N11: ROK II | X11: ROK III | AH11: ROK IV | AM11: Ogółem | AN11: w tym: | AR11: ECTS
D12: 1 sem. | H12: ECTS | I12: 2 sem. | M12: ECTS | N12: 3 sem. | R12: ECTS | S12: 4 sem. | W12: ECTS | X12: 5 sem. | AB12: ECTS | AC12: 6 sem. | AG12: ECTS | AH12: 7 sem. | AL12: ECTS
D13: w. | E13: ćw | F13: lab | G13: p | I13: w. | J13: ćw | K13: lab | L13: p | N13: w. | O13: ćw | P13: lab | Q13: p | S13: w. | T13: ćw | U13: lab | V13: p | X13: w. | Y13: ćw | Z13: lab | AA13: p | AC13: w. | AD13: ćw | AE13: lab | AF13: p | AH13: w. | AI13: ćw | AJ13: lab | AK13: p | AN13: w. | AO13: ćw | AP13: lab | AQ13: p
A14: C. Moduł obieralny: INŻYNIERIA ŚRODOWISKA
A15: 1 | B15: Wymiana i wymienniki ciepła | C15: E III | N15: 30 | O15: 15 | P15: 15 | R15: 4 | AM15: =AN15+AO15+AP15+AQ15 -> 60 | AN15: =D15+I15+N15+S15+X15+AC15+AH15 -> 30 | AO15: =E15+J15+O15+T15+Y15+AD15+AI15 -> 15 | AP15: =F15+K15+P15+U15+Z15+AE15+AJ15 -> 15 | AQ15: =G15+L15+Q15+V15+AA15+AF15+AK15 -> 0 | AR15: =H15+M15+R15+W15+AB15+AG15+AL15 -> 4
A16: 2 | B16: Chemia środowiska | C16: z. o. III | N16: 15 | P16: 30 | R16: 3 | AM16: =AN16+AO16+AP16+AQ16 -> 45 | AN16: =D16+I16+N16+S16+X16+AC16+AH16 -> 15 | AO16: =E16+J16+O16+T16+Y16+AD16+AI16 -> 0 | AP16: =F16+K16+P16+U16+Z16+AE16+AJ16 -> 30 | AQ16: =G16+L16+Q16+V16+AA16+AF16+AK16 -> 0 | AR16: =H16+M16+R16+W16+AB16+AG16+AL16 -> 3
A17: 3 | B17: Instrumentalne metody analityczne | C17: z. o. III | N17: 15 | P17: 30 | R17: 3 | AM17: =AN17+AO17+AP17+AQ17 -> 45 | AN17: =D17+I17+N17+S17+X17+AC17+AH17 -> 15 | AO17: =E17+J17+O17+T17+Y17+AD17+AI17 -> 0 | AP17: =F17+K17+P17+U17+Z17+AE17+AJ17 -> 30 | AQ17: =G17+L17+Q17+V17+AA17+AF17+AK17 -> 0 | AR17: =H17+M17+R17+W17+AB17+AG17+AL17 -> 3
A18: 4 | B18: Systemy zarządzania energią | C18: E IV | S18: 30 | U18: 15 | V18: 15 | W18: 4 | AM18: =AN18+AO18+AP18+AQ18 -> 60 | AN18: =D18+I18+N18+S18+X18+AC18+AH18 -> 30 | AO18: =E18+J18+O18+T18+Y18+AD18+AI18 -> 0 | AP18: =F18+K18+P18+U18+Z18+AE18+AJ18 -> 15 | AQ18: =G18+L18+Q18+V18+AA18+AF18+AK18 -> 15 | AR18: =H18+M18+R18+W18+AB18+AG18+AL18 -> 4
A19: 5 | B19: Metrologia i monitoring środowiska | C19: E IV | S19: 15 | U19: 30 | W19: 3 | AM19: =AN19+AO19+AP19+AQ19 -> 45 | AN19: =D19+I19+N19+S19+X19+AC19+AH19 -> 15 | AO19: =E19+J19+O19+T19+Y19+AD19+AI19 -> 0 | AP19: =F19+K19+P19+U19+Z19+AE19+AJ19 -> 30 | AQ19: =G19+L19+Q19+V19+AA19+AF19+AK19 -> 0 | AR19: =H19+M19+R19+W19+AB19+AG19+AL19 -> 3
A20: 6 | B20: Alternatywne źródła energii | C20: z. o. IV | S20: 15 | U20: 15 | V20: 15 | W20: 3 | AM20: =AN20+AO20+AP20+AQ20 -> 45 | AN20: =D20+I20+N20+S20+X20+AC20+AH20 -> 15 | AO20: =E20+J20+O20+T20+Y20+AD20+AI20 -> 0 | AP20: =F20+K20+P20+U20+Z20+AE20+AJ20 -> 15 | AQ20: =G20+L20+Q20+V20+AA20+AF20+AK20 -> 15 | AR20: =H20+M20+R20+W20+AB20+AG20+AL20 -> 3
A21: 7 | B21: Techniki pomiarowe w przemyśle | C21: E V | X21: 30 | Z21: 15 | AA21: 30 | AB21: 5 | AM21: =AN21+AO21+AP21+AQ21 -> 75 | AN21: =D21+I21+N21+S21+X21+AC21+AH21 -> 30 | AO21: =E21+J21+O21+T21+Y21+AD21+AI21 -> 0 | AP21: =F21+K21+P21+U21+Z21+AE21+AJ21 -> 15 | AQ21: =G21+L21+Q21+V21+AA21+AF21+AK21 -> 30 | AR21: =H21+M21+R21+W21+AB21+AG21+AL21 -> 5
A22: 8 | B22: Ocena oddziaływania na środowisko | C22: E V | X22: 30 | Y22: 15 | Z22: 15 | AB22: 4 | AM22: =AN22+AO22+AP22+AQ22 -> 60 | AN22: =D22+I22+N22+S22+X22+AC22+AH22 -> 30 | AO22: =E22+J22+O22+T22+Y22+AD22+AI22 -> 15 | AP22: =F22+K22+P22+U22+Z22+AE22+AJ22 -> 15 | AQ22: =G22+L22+Q22+V22+AA22+AF22+AK22 -> 0 | AR22: =H22+M22+R22+W22+AB22+AG22+AL22 -> 4
A23: 9 | B23: Ochrona środowiska w energetyce | C23: z. o.V | X23: 30 | Z23: 30 | AB23: 4 | AC23: 15 | AE23: 30 | AF23: 15 | AG23: 4 | AM23: =AN23+AO23+AP23+AQ23 -> 120 | AN23: =D23+I23+N23+S23+X23+AC23+AH23 -> 45 | AO23: =E23+J23+O23+T23+Y23+AD23+AI23 -> 0 | AP23: =F23+K23+P23+U23+Z23+AE23+AJ23 -> 60 | AQ23: =G23+L23+Q23+V23+AA23+AF23+AK23 -> 15 | AR23: =H23+M23+R23+W23+AB23+AG23+AL23 -> 8
A24: 10 | B24: Magazynowanie energii | C24: z. o. VI | AC24: 30 | AE24: 30 | AF24: 15 | AG24: 5 | AM24: =AN24+AO24+AP24+AQ24 -> 75 | AN24: =D24+I24+N24+S24+X24+AC24+AH24 -> 30 | AO24: =E24+J24+O24+T24+Y24+AD24+AI24 -> 0 | AP24: =F24+K24+P24+U24+Z24+AE24+AJ24 -> 30 | AQ24: =G24+L24+Q24+V24+AA24+AF24+AK24 -> 15 | AR24: =H24+M24+R24+W24+AB24+AG24+AL24 -> 5
A25: 11 | B25: Instalacje wentylacyjne i klimatyzacyjne | C25: E VI | AC25: 30 | AE25: 15 | AF25: 30 | AG25: 5 | AM25: =AN25+AO25+AP25+AQ25 -> 75 | AN25: =D25+I25+N25+S25+X25+AC25+AH25 -> 30 | AO25: =E25+J25+O25+T25+Y25+AD25+AI25 -> 0 | AP25: =F25+K25+P25+U25+Z25+AE25+AJ25 -> 15 | AQ25: =G25+L25+Q25+V25+AA25+AF25+AK25 -> 30 | AR25: =H25+M25+R25+W25+AB25+AG25+AL25 -> 5
A26: 12 | B26: Gospodarka odpadami | C26: z. o. VI | AC26: 15 | AE26: 15 | AF26: 30 | AG26: 4 | AM26: =AN26+AO26+AP26+AQ26 -> 60 | AN26: =D26+I26+N26+S26+X26+AC26+AH26 -> 15 | AO26: =E26+J26+O26+T26+Y26+AD26+AI26 -> 0 | AP26: =F26+K26+P26+U26+Z26+AE26+AJ26 -> 15 | AQ26: =G26+L26+Q26+V26+AA26+AF26+AK26 -> 30 | AR26: =H26+M26+R26+W26+AB26+AG26+AL26 -> 4
A27: 13 | B27: Dokumentacja środowiskowa | C27: z. o. VII | AH27: 30 | AJ27: 30 | AK27: 15 | AL27: 5 | AM27: =AN27+AO27+AP27+AQ27 -> 75 | AN27: =D27+I27+N27+S27+X27+AC27+AH27 -> 30 | AO27: =E27+J27+O27+T27+Y27+AD27+AI27 -> 0 | AP27: =F27+K27+P27+U27+Z27+AE27+AJ27 -> 30 | AQ27: =G27+L27+Q27+V27+AA27+AF27+AK27 -> 15 | AR27: =H27+M27+R27+W27+AB27+AG27+AL27 -> 5
A28: 14 | B28: Gospodarka wodno-ściekowa | C28: z. o. VII | AH28: 15 | AI28: 15 | AJ28: 30 | AL28: 4 | AM28: =AN28+AO28+AP28+AQ28 -> 60 | AN28: =D28+I28+N28+S28+X28+AC28+AH28 -> 15 | AO28: =E28+J28+O28+T28+Y28+AD28+AI28 -> 15 | AP28: =F28+K28+P28+U28+Z28+AE28+AJ28 -> 30 | AQ28: =G28+L28+Q28+V28+AA28+AF28+AK28 -> 0 | AR28: =H28+M28+R28+W28+AB28+AG28+AL28 -> 4
A29: 15 | B29: Projekt inżynierski | C29: z. o. VII | AH29: 30 | AK29: 30 | AL29: 4 | AM29: =AN29+AO29+AP29+AQ29 -> 60 | AN29: =D29+I29+N29+S29+X29+AC29+AH29 -> 30 | AO29: =E29+J29+O29+T29+Y29+AD29+AI29 -> 0 | AP29: =F29+K29+P29+U29+Z29+AE29+AJ29 -> 0 | AQ29: =G29+L29+Q29+V29+AA29+AF29+AK29 -> 30 | AR29: =H29+M29+R29+W29+AB29+AG29+AL29 -> 4
A30: Razem liczba godzin | D30: =SUM(D15:D22) -> 0 | E30: =SUM(E15:E22) -> 0 | F30: =SUM(F15:F22) -> 0 | G30: =SUM(G15:G22) -> 0 | H30: =SUM(H15:H22) -> 0 | I30: =SUM(I15:I22) -> 0 | J30: =SUM(J15:J22) -> 0 | K30: =SUM(K15:K22) -> 0 | ... M30: =SUM(M15:M22) -> 0 | N30: =SUM(N15:N29) -> 60 | O30: =SUM(O15:O29) -> 15 | P30: =SUM(P15:P29) -> 75 | Q30: =SUM(Q15:Q29) -> 0 | R30: =SUM(R15:R22) -> 10 | S30: =SUM(S15:S29) -> 60 | T30: =SUM(T15:T29) -> 0 | U30: =SUM(U15:U29) -> 60 | V30: =SUM(V15:V29) -> 30 | W30: =SUM(W15:W22) -> 10 | X30: =SUM(X15:X29) -> 90 | Y30: =SUM(Y15:Y29) -> 15 | Z30: =SUM(Z15:Z29) -> 60 | AA30: =SUM(AA15:AA29) -> 30 | AB30: =SUM(AB15:AB29) -> 13 | AC30: =SUM(AC15:AC29) -> 90 | AD30: =SUM(AD15:AD29) -> 0 | AE30: =SUM(AE15:AE29) -> 90 | ... AR30: =SUM(AR15:AR29) -> 64
